BEGIN:VCALENDAR
VERSION:2.0
PRODID:icalendar-ruby
CALSCALE:GREGORIAN
METHOD:PUBLISH
BEGIN:VEVENT
DTSTAMP:20260424T134036Z
UID:5-403184@stluke255.tithelysetup5.com
DTSTART:20261101T183000Z
DTEND:20261101T193000Z
CLASS:PUBLIC
CREATED:20260424T053134
DESCRIPTION:Sunday Worship
LAST-MODIFIED:20260424T053134
LOCATION:
SUMMARY:Sunday Worship
URL;VALUE=URI:https://www.stlukeatlanta.org/events/sunday-worship/2026-11-0
 1
END:VEVENT
END:VCALENDAR
