BEGIN:VCALENDAR
VERSION:2.0
PRODID:icalendar-ruby
CALSCALE:GREGORIAN
METHOD:PUBLISH
BEGIN:VEVENT
DTSTAMP:20260424T083037Z
UID:5-402920@stluke255.tithelysetup5.com
DTSTART:20261011T173000Z
DTEND:20261011T183000Z
CLASS:PUBLIC
CREATED:20260423T200326
DESCRIPTION:Sunday Worship
LAST-MODIFIED:20260423T200326
LOCATION:
SUMMARY:Sunday Worship
URL;VALUE=URI:https://www.stlukeatlanta.org/events/sunday-worship/2026-10-1
 1
END:VEVENT
END:VCALENDAR
