BEGIN:VCALENDAR
VERSION:2.0
PRODID:icalendar-ruby
CALSCALE:GREGORIAN
METHOD:PUBLISH
BEGIN:VEVENT
DTSTAMP:20260424T063412Z
UID:5-402919@stluke255.tithelysetup5.com
DTSTART:20261004T173000Z
DTEND:20261004T183000Z
CLASS:PUBLIC
CREATED:20260423T200326
DESCRIPTION:Sunday Worship
LAST-MODIFIED:20260423T200326
LOCATION:
SUMMARY:Sunday Worship
URL;VALUE=URI:https://www.stlukeatlanta.org/events/sunday-worship/2026-10-0
 4
END:VEVENT
END:VCALENDAR
