BEGIN:VCALENDAR
VERSION:2.0
PRODID:icalendar-ruby
CALSCALE:GREGORIAN
METHOD:PUBLISH
BEGIN:VEVENT
DTSTAMP:20260424T025456Z
UID:5-402656@stluke255.tithelysetup5.com
DTSTART:20260920T173000Z
DTEND:20260920T183000Z
CLASS:PUBLIC
CREATED:20260423T170856
DESCRIPTION:Sunday Worship
LAST-MODIFIED:20260423T170856
LOCATION:
SUMMARY:Sunday Worship
URL;VALUE=URI:https://www.stlukeatlanta.org/events/sunday-worship/2026-09-2
 0
END:VEVENT
END:VCALENDAR
