BEGIN:VCALENDAR
VERSION:2.0
PRODID:icalendar-ruby
CALSCALE:GREGORIAN
METHOD:PUBLISH
BEGIN:VEVENT
DTSTAMP:20260423T211352Z
UID:5-402131@stluke255.tithelysetup5.com
DTSTART:20260830T173000Z
DTEND:20260830T183000Z
CLASS:PUBLIC
CREATED:20260423T112050
DESCRIPTION:Sunday Worship
LAST-MODIFIED:20260423T112050
LOCATION:
SUMMARY:Sunday Worship
URL;VALUE=URI:https://www.stlukeatlanta.org/events/sunday-worship/2026-08-3
 0
END:VEVENT
END:VCALENDAR
