BEGIN:VCALENDAR
VERSION:2.0
PRODID:icalendar-ruby
CALSCALE:GREGORIAN
METHOD:PUBLISH
BEGIN:VEVENT
DTSTAMP:20260423T154024Z
UID:5-401867@stluke255.tithelysetup5.com
DTSTART:20260809T173000Z
DTEND:20260809T183000Z
CLASS:PUBLIC
CREATED:20260423T082413
DESCRIPTION:Sunday Worship
LAST-MODIFIED:20260423T082413
LOCATION:
SUMMARY:Sunday Worship
URL;VALUE=URI:https://www.stlukeatlanta.org/events/sunday-worship/2026-08-0
 9
END:VEVENT
END:VCALENDAR
