BEGIN:VCALENDAR
VERSION:2.0
PRODID:icalendar-ruby
CALSCALE:GREGORIAN
METHOD:PUBLISH
BEGIN:VEVENT
DTSTAMP:20260423T135942Z
UID:5-401605@stluke255.tithelysetup5.com
DTSTART:20260802T173000Z
DTEND:20260802T183000Z
CLASS:PUBLIC
CREATED:20260423T053143
DESCRIPTION:Sunday Worship
LAST-MODIFIED:20260423T053143
LOCATION:
SUMMARY:Sunday Worship
URL;VALUE=URI:https://www.stlukeatlanta.org/events/sunday-worship/2026-08-0
 2
END:VEVENT
END:VCALENDAR
