BEGIN:VCALENDAR
VERSION:2.0
PRODID:icalendar-ruby
CALSCALE:GREGORIAN
METHOD:PUBLISH
BEGIN:VEVENT
DTSTAMP:20260423T121130Z
UID:5-401343@stluke255.tithelysetup5.com
DTSTART:20260726T173000Z
DTEND:20260726T183000Z
CLASS:PUBLIC
CREATED:20260422T200127
DESCRIPTION:Sunday Worship
LAST-MODIFIED:20260422T200127
LOCATION:
SUMMARY:Sunday Worship
URL;VALUE=URI:https://www.stlukeatlanta.org/events/sunday-worship/2026-07-2
 6
END:VEVENT
END:VCALENDAR
