BEGIN:VCALENDAR
VERSION:2.0
PRODID:icalendar-ruby
CALSCALE:GREGORIAN
METHOD:PUBLISH
BEGIN:VEVENT
DTSTAMP:20260423T054308Z
UID:5-401339@stluke255.tithelysetup5.com
DTSTART:20260628T173000Z
DTEND:20260628T183000Z
CLASS:PUBLIC
CREATED:20260422T200127
DESCRIPTION:Sunday Worship
LAST-MODIFIED:20260422T200127
LOCATION:
SUMMARY:Sunday Worship
URL;VALUE=URI:https://www.stlukeatlanta.org/events/sunday-worship/2026-06-2
 8
END:VEVENT
END:VCALENDAR
